BEGIN:VCALENDAR
VERSION:2.0
PRODID:-//Rover Car Club Wellington - ECPv6.9.1//NONSGML v1.0//EN
CALSCALE:GREGORIAN
METHOD:PUBLISH
X-ORIGINAL-URL:http://www.rovercarclubwellington.org.nz
X-WR-CALDESC:Events for Rover Car Club Wellington
REFRESH-INTERVAL;VALUE=DURATION:PT1H
X-Robots-Tag:noindex
X-PUBLISHED-TTL:PT1H
BEGIN:VTIMEZONE
TZID:Pacific/Auckland
BEGIN:STANDARD
TZOFFSETFROM:+1300
TZOFFSETTO:+1200
TZNAME:NZST
DTSTART:20250405T140000
END:STANDARD
BEGIN:DAYLIGHT
TZOFFSETFROM:+1200
TZOFFSETTO:+1300
TZNAME:NZDT
DTSTART:20250927T140000
END:DAYLIGHT
END:VTIMEZONE
BEGIN:VEVENT
DTSTART;TZID=Pacific/Auckland:20250525T090000
DTEND;TZID=Pacific/Auckland:20250525T150000
DTSTAMP:20260421T043315
CREATED:20250123T222620Z
LAST-MODIFIED:20250123T222620Z
UID:134-1748163600-1748185200@www.rovercarclubwellington.org.nz
SUMMARY:MANGATAINOKA MOTORS 2025 - Brit and Euro Car Day
DESCRIPTION:Brit and Euro Car Day – Sunday 25 May 2025\nLimited to vehicles manufactured in the United Kingdom or mainland Europe. \nIncludes all body styles: sports cars\, sedans\, hatchbacks and SUVs. \nhttps://www.tuihq.co.nz/events/brit-euro-car-day \n  \n 
URL:http://www.rovercarclubwellington.org.nz/event/mangatainoka-motors-2025-brit-and-euro-car-day/
LOCATION:Tui Brewery (Tui HQ) – Mangatainoka\, Tui Brewery (Tui HQ)\, Manawatū-Whanganui 4982\, New Zealand
END:VEVENT
END:VCALENDAR