BEGIN:VCALENDAR
VERSION:2.0
PRODID:-//Rover Car Club Wellington - ECPv6.9.1//NONSGML v1.0//EN
CALSCALE:GREGORIAN
METHOD:PUBLISH
X-WR-CALNAME:Rover Car Club Wellington
X-ORIGINAL-URL:http://www.rovercarclubwellington.org.nz
X-WR-CALDESC:Events for Rover Car Club Wellington
REFRESH-INTERVAL;VALUE=DURATION:PT1H
X-Robots-Tag:noindex
X-PUBLISHED-TTL:PT1H
BEGIN:VTIMEZONE
TZID:Pacific/Auckland
BEGIN:STANDARD
TZOFFSETFROM:+1300
TZOFFSETTO:+1200
TZNAME:NZST
DTSTART:20260404T140000
END:STANDARD
BEGIN:DAYLIGHT
TZOFFSETFROM:+1200
TZOFFSETTO:+1300
TZNAME:NZDT
DTSTART:20260926T140000
END:DAYLIGHT
END:VTIMEZONE
BEGIN:VEVENT
DTSTART;TZID=Pacific/Auckland:20260315T100000
DTEND;TZID=Pacific/Auckland:20260315T170000
DTSTAMP:20260421T072359
CREATED:20260303T032343Z
LAST-MODIFIED:20260303T032343Z
UID:199-1773568800-1773594000@www.rovercarclubwellington.org.nz
SUMMARY:All Fired Up show\, Kapiti Primary School
DESCRIPTION:All Fired Up show\, Kapiti Primary School\, from 10am\, $10 per car\, $2 entry.
URL:http://www.rovercarclubwellington.org.nz/event/all-fired-up-show-kapiti-primary-school/
LOCATION:Kapiti Primary School\, Rimu Road\, Paraparaumu\, New Zealand
END:VEVENT
END:VCALENDAR