BEGIN:VCALENDAR
VERSION:2.0
PRODID:-//Rover Car Club Wellington - ECPv6.9.1//NONSGML v1.0//EN
CALSCALE:GREGORIAN
METHOD:PUBLISH
X-WR-CALNAME:Rover Car Club Wellington
X-ORIGINAL-URL:http://www.rovercarclubwellington.org.nz
X-WR-CALDESC:Events for Rover Car Club Wellington
REFRESH-INTERVAL;VALUE=DURATION:PT1H
X-Robots-Tag:noindex
X-PUBLISHED-TTL:PT1H
BEGIN:VTIMEZONE
TZID:Pacific/Auckland
BEGIN:STANDARD
TZOFFSETFROM:+1300
TZOFFSETTO:+1200
TZNAME:NZST
DTSTART:20250405T140000
END:STANDARD
BEGIN:DAYLIGHT
TZOFFSETFROM:+1200
TZOFFSETTO:+1300
TZNAME:NZDT
DTSTART:20250927T140000
END:DAYLIGHT
END:VTIMEZONE
BEGIN:VEVENT
DTSTART;VALUE=DATE:20250216
DTEND;VALUE=DATE:20250217
DTSTAMP:20260421T172522
CREATED:20250121T233208Z
LAST-MODIFIED:20250121T233208Z
UID:108-1739664000-1739750399@www.rovercarclubwellington.org.nz
SUMMARY:The Shannon Spectacular Car & Bike Show
DESCRIPTION:The Shannon Spectacular Car & Bike Show at the Shannon Domain\, Stout Street\, Shannon. 8am on.\n\n$10 entry for display cars. Gold coin donation entry for spectators.
URL:http://www.rovercarclubwellington.org.nz/event/the-shannon-spectacular-car-bike-show/
LOCATION:Shannon Domain\, Shannon Domain\, Shannon\, New Zealand
END:VEVENT
BEGIN:VEVENT
DTSTART;VALUE=DATE:20250209
DTEND;VALUE=DATE:20250210
DTSTAMP:20260421T172522
CREATED:20250121T230448Z
LAST-MODIFIED:20250121T232732Z
UID:99-1739059200-1739145599@www.rovercarclubwellington.org.nz
SUMMARY:British and European Car Day 2025
DESCRIPTION:Entry to Trentham Memorial Park is from Fergusson Drive at the traffic lights on the Barton Ave/Sutherland Ave intersection. \nIf you are heading north on Fergusson Drive you turn left. \nSee map showing entry gate for exhibitors here:    https://maps.app.goo.gl/jJ9YqpGUdwxVRLqn9 \n  \n  \n 
URL:http://www.rovercarclubwellington.org.nz/event/british-and-european-car-day-2025/
LOCATION:Trentham Memorial Park\, Trentham Memorial Park\, Upper Hutt\, Wellingto\, New Zealand
END:VEVENT
END:VCALENDAR