BEGIN:VCALENDAR
VERSION:2.0
PRODID:-//Rover Car Club Wellington - ECPv6.9.1//NONSGML v1.0//EN
CALSCALE:GREGORIAN
METHOD:PUBLISH
X-WR-CALNAME:Rover Car Club Wellington
X-ORIGINAL-URL:http://www.rovercarclubwellington.org.nz
X-WR-CALDESC:Events for Rover Car Club Wellington
REFRESH-INTERVAL;VALUE=DURATION:PT1H
X-Robots-Tag:noindex
X-PUBLISHED-TTL:PT1H
BEGIN:VTIMEZONE
TZID:Pacific/Auckland
BEGIN:STANDARD
TZOFFSETFROM:+1300
TZOFFSETTO:+1200
TZNAME:NZST
DTSTART:20250405T140000
END:STANDARD
BEGIN:DAYLIGHT
TZOFFSETFROM:+1200
TZOFFSETTO:+1300
TZNAME:NZDT
DTSTART:20250927T140000
END:DAYLIGHT
END:VTIMEZONE
BEGIN:VEVENT
DTSTART;TZID=Pacific/Auckland:20250316T083000
DTEND;TZID=Pacific/Auckland:20250316T130000
DTSTAMP:20260421T172648
CREATED:20250123T222441Z
LAST-MODIFIED:20250123T222441Z
UID:132-1742113800-1742130000@www.rovercarclubwellington.org.nz
SUMMARY:Plimmerton Show
DESCRIPTION:Plimmerton Show. \nEntry fee $5. Proceeds from the day will be donated to Mana Coastguard. \nThe ground will be open to participants from 8.30am and the show itself will be open to the public from 10am. \nFinishing time is 1pm
URL:http://www.rovercarclubwellington.org.nz/event/plimmerton-show/
LOCATION:Plimmerton School\, Plimmerton\, 11 School Road\, Plimmerton\, Porirua 5026\, New Zealand
END:VEVENT
BEGIN:VEVENT
DTSTART;TZID=Pacific/Auckland:20250315T070000
DTEND;TZID=Pacific/Auckland:20250315T170000
DTSTAMP:20260421T172648
CREATED:20250123T222318Z
LAST-MODIFIED:20250123T222332Z
UID:129-1742022000-1742058000@www.rovercarclubwellington.org.nz
SUMMARY:VCC Swapmeet
DESCRIPTION:Gates open 7am. \nThe VCC Library will be selling books and manuals for many types of cars. \nAt  10.00am the VCC Spares Department will open. $5 entry.
URL:http://www.rovercarclubwellington.org.nz/event/vcc-swapmeet/
LOCATION:Levin Showgrounds\, Levin\, 33 Victoria Street\, Levin 5510\, New Zealand
END:VEVENT
BEGIN:VEVENT
DTSTART;TZID=Pacific/Auckland:20250309T080000
DTEND;TZID=Pacific/Auckland:20250309T130000
DTSTAMP:20260421T172648
CREATED:20250123T221032Z
LAST-MODIFIED:20250123T221756Z
UID:112-1741507200-1741525200@www.rovercarclubwellington.org.nz
SUMMARY:Coffee and Cars @ Southward Car Museum
DESCRIPTION:**FREE EVENT**\nCoffee and Cars is back for the 2024/2025 Season\, mark the dates in your calendar – 2nd Sunday of each month October-March (Weather dependent)\n\nThere will be food trucks along with the Charity sausage sizzle\, so bring along some change to support the different local teams/clubs that run it.\nAll cars are welcome\, we also have spectator parking available on site.
URL:http://www.rovercarclubwellington.org.nz/event/cars-and-coffee-southwards/
LOCATION:Southward Car Museum\, southward car museum\, Otaihanga Road\, Wellington 5036\, New Zealand
END:VEVENT
BEGIN:VEVENT
DTSTART;TZID=Pacific/Auckland:20250301T080000
DTEND;TZID=Pacific/Auckland:20250308T170000
DTSTAMP:20260421T172648
CREATED:20250123T220927Z
LAST-MODIFIED:20250123T220927Z
UID:110-1740816000-1741453200@www.rovercarclubwellington.org.nz
SUMMARY:ARCC National Rally\, Auckland
DESCRIPTION:
URL:http://www.rovercarclubwellington.org.nz/event/arcc-national-rally-auckland/
END:VEVENT
BEGIN:VEVENT
DTSTART;VALUE=DATE:20250216
DTEND;VALUE=DATE:20250217
DTSTAMP:20260421T172648
CREATED:20250121T233208Z
LAST-MODIFIED:20250121T233208Z
UID:108-1739664000-1739750399@www.rovercarclubwellington.org.nz
SUMMARY:The Shannon Spectacular Car & Bike Show
DESCRIPTION:The Shannon Spectacular Car & Bike Show at the Shannon Domain\, Stout Street\, Shannon. 8am on.\n\n$10 entry for display cars. Gold coin donation entry for spectators.
URL:http://www.rovercarclubwellington.org.nz/event/the-shannon-spectacular-car-bike-show/
LOCATION:Shannon Domain\, Shannon Domain\, Shannon\, New Zealand
END:VEVENT
BEGIN:VEVENT
DTSTART;VALUE=DATE:20250209
DTEND;VALUE=DATE:20250210
DTSTAMP:20260421T172648
CREATED:20250121T230448Z
LAST-MODIFIED:20250121T232732Z
UID:99-1739059200-1739145599@www.rovercarclubwellington.org.nz
SUMMARY:British and European Car Day 2025
DESCRIPTION:Entry to Trentham Memorial Park is from Fergusson Drive at the traffic lights on the Barton Ave/Sutherland Ave intersection. \nIf you are heading north on Fergusson Drive you turn left. \nSee map showing entry gate for exhibitors here:    https://maps.app.goo.gl/jJ9YqpGUdwxVRLqn9 \n  \n  \n 
URL:http://www.rovercarclubwellington.org.nz/event/british-and-european-car-day-2025/
LOCATION:Trentham Memorial Park\, Trentham Memorial Park\, Upper Hutt\, Wellingto\, New Zealand
END:VEVENT
END:VCALENDAR