BEGIN:VCALENDAR
VERSION:2.0
PRODID:-//Rover Car Club Wellington - ECPv6.9.1//NONSGML v1.0//EN
CALSCALE:GREGORIAN
METHOD:PUBLISH
X-ORIGINAL-URL:http://www.rovercarclubwellington.org.nz
X-WR-CALDESC:Events for Rover Car Club Wellington
REFRESH-INTERVAL;VALUE=DURATION:PT1H
X-Robots-Tag:noindex
X-PUBLISHED-TTL:PT1H
BEGIN:VTIMEZONE
TZID:Pacific/Auckland
BEGIN:STANDARD
TZOFFSETFROM:+1300
TZOFFSETTO:+1200
TZNAME:NZST
DTSTART:20260404T140000
END:STANDARD
BEGIN:DAYLIGHT
TZOFFSETFROM:+1200
TZOFFSETTO:+1300
TZNAME:NZDT
DTSTART:20260926T140000
END:DAYLIGHT
END:VTIMEZONE
BEGIN:VEVENT
DTSTART;TZID=Pacific/Auckland:20260405T090000
DTEND;TZID=Pacific/Auckland:20260405T110000
DTSTAMP:20260421T160147
CREATED:20260303T033600Z
LAST-MODIFIED:20260303T033600Z
UID:214-1775379600-1775386800@www.rovercarclubwellington.org.nz
SUMMARY:Cars and Coffee - Palmerston North
DESCRIPTION:Bring what ya got! Unusual is good.\n\nWe meet on the first Sunday of every month at the PNCC carpark\, 317 Church St\, behind the Grand Hotel (about opposite Linton St) between 9-11am.
URL:http://www.rovercarclubwellington.org.nz/event/cars-and-coffee-palmerston-north/
LOCATION:Palmerston North City Council Car Park\, 317 Church Street\, Palmerston North\, New Zealand
END:VEVENT
BEGIN:VEVENT
DTSTART;TZID=Pacific/Auckland:20260405T090000
DTEND;TZID=Pacific/Auckland:20260405T170000
DTSTAMP:20260421T160147
CREATED:20260303T032710Z
LAST-MODIFIED:20260303T032710Z
UID:204-1775379600-1775408400@www.rovercarclubwellington.org.nz
SUMMARY:Repco Hawkes Bay Auto Extravaganza
DESCRIPTION:Repco Hawkes Bay Auto Extravaganza\, Tomoana Showgrounds. 9am to 3pm $10 per display vehicle\, public entry by gold coin donation.
URL:http://www.rovercarclubwellington.org.nz/event/repco-hawkes-bay-auto-extravaganza/
LOCATION:Tomoana Showgrounds\, Kenilworth Road\, Hastings\, New Zealand
END:VEVENT
BEGIN:VEVENT
DTSTART;TZID=Pacific/Auckland:20260419T090000
DTEND;TZID=Pacific/Auckland:20260419T180000
DTSTAMP:20260421T160147
CREATED:20260303T032903Z
LAST-MODIFIED:20260303T032903Z
UID:207-1776589200-1776621600@www.rovercarclubwellington.org.nz
SUMMARY:The Notorious Wairarapa Bootleggers’ Run
DESCRIPTION:The notorious Wairarapa Bootleggers’ Run\, 9am to 6pm.  A day of vintage wheels and fine wine.  See: thewhiteswanhotel.co.nz. $20 per car.
URL:http://www.rovercarclubwellington.org.nz/event/the-notorious-wairarapa-bootleggers-run/
LOCATION:White Swan Hotel\, Greytown\, 109 Main Street\, Greytown\, New Zealand
END:VEVENT
BEGIN:VEVENT
DTSTART;TZID=Pacific/Auckland:20260531T080000
DTEND;TZID=Pacific/Auckland:20260531T170000
DTSTAMP:20260421T160147
CREATED:20260303T033210Z
LAST-MODIFIED:20260303T033210Z
UID:210-1780214400-1780246800@www.rovercarclubwellington.org.nz
SUMMARY:Tui Brewery Brit & Euro day
DESCRIPTION:Tui Brewery Brit & Euro day\, see  Mangatainoka Motors Events Mangatainoka Motors Events (tuihq.co.nz)
URL:http://www.rovercarclubwellington.org.nz/event/tui-brewery-brit-euro-day/
LOCATION:Tui Brewery (Tui HQ) – Mangatainoka\, Tui Brewery (Tui HQ)\, Manawatū-Whanganui 4982\, New Zealand
END:VEVENT
BEGIN:VEVENT
DTSTART;TZID=Pacific/Auckland:20260918T080000
DTEND;TZID=Pacific/Auckland:20260921T170000
DTSTAMP:20260421T160147
CREATED:20250812T034546Z
LAST-MODIFIED:20250812T034546Z
UID:160-1789718400-1790010000@www.rovercarclubwellington.org.nz
SUMMARY:2026 NATIONAL ROVE  "WILDFLOWERS WEST"
DESCRIPTION: 
URL:http://www.rovercarclubwellington.org.nz/event/2026-national-rove-wildflowers-west/
LOCATION:Perth\, WA\, Perth\, Western Australia\, Australia
END:VEVENT
BEGIN:VEVENT
DTSTART;TZID=Pacific/Auckland:20261025T080000
DTEND;TZID=Pacific/Auckland:20261025T170000
DTSTAMP:20260421T160147
CREATED:20260303T033246Z
LAST-MODIFIED:20260303T033246Z
UID:212-1792915200-1792947600@www.rovercarclubwellington.org.nz
SUMMARY:Tui Brewery Vintage and Classic Day
DESCRIPTION:Tui Brewery Vintage and Classic Day\, see  Mangatainoka Motors Events Mangatainoka Motors Events (tuihq.co.nz)
URL:http://www.rovercarclubwellington.org.nz/event/tui-brewery-vintage-and-classic-day/
END:VEVENT
END:VCALENDAR